BEGIN:VCALENDAR
VERSION:2.0
PRODID:-//www.Gzrally.com - ECPv5.16.2.1//NONSGML v1.0//EN
CALSCALE:GREGORIAN
METHOD:PUBLISH
X-WR-CALNAME:www.Gzrally.com
X-ORIGINAL-URL:https://www.gzrally.com
X-WR-CALDESC:Eventos para www.Gzrally.com
BEGIN:VTIMEZONE
TZID:Europe/Paris
BEGIN:DAYLIGHT
TZOFFSETFROM:+0100
TZOFFSETTO:+0200
TZNAME:CEST
DTSTART:20250330T010000
END:DAYLIGHT
BEGIN:STANDARD
TZOFFSETFROM:+0200
TZOFFSETTO:+0100
TZNAME:CET
DTSTART:20251026T010000
END:STANDARD
END:VTIMEZONE
BEGIN:VEVENT
DTSTART;VALUE=DATE:20250301
DTEND;VALUE=DATE:20250303
DTSTAMP:20260423T104611
CREATED:20250220T084744Z
LAST-MODIFIED:20250228T070035Z
UID:37688-1740787200-1740959999@www.gzrally.com
SUMMARY:Rally de Tierra de Cáceres 2025
DESCRIPTION:Rally de Tierra de Cáceres 2025\n\n\n\nWeb oficial\nPerfil de Instagram oficial\nPerfil de Facebook oficial\nReglamento particular\nPrograma horario\n\n\n\n			\n				\n			\n			\n				\n			\n		\n\n\nItinerario Horario\n\n\n\n			\n				\n			\n			\n				\n			\n		\n\n\nLista de inscritos\n\n\n\n\nMapa General\n\n\n\n\nTramos\n\n\n                                                      \n\nGuia del Rally\nGoogle Maps\nRadio Online\nTiempos Online\nTablón de anuncios oficial\n\n\n\n﻿﻿﻿﻿﻿﻿\n\n\n \nCompartelo:\n				Comparte en Facebook (Se abre en una ventana nueva)\n				Facebook\n			\n				Compartir en X (Se abre en una ventana nueva)\n				X\n			\n				Compartir en WhatsApp (Se abre en una ventana nueva)\n				WhatsApp\n			\n				Compartir en Telegram (Se abre en una ventana nueva)\n				Telegram\n			\n				Haz clic en Pinterest (Se abre en una ventana nueva)\n				Pinterest\n			\n				Enviar un enlace a un amigo por correo electrónico (Se abre en una ventana nueva)\n				Correo electrónico\n			\n\n	Relacionado
URL:https://www.gzrally.com/evento/rally-de-tierra-de-caceres-2025/
CATEGORIES:CERT
ATTACH;FMTTYPE=image/png:https://www.gzrally.com/wp-content/uploads/2025/02/placa-caceres-2025-v2.png
END:VEVENT
END:VCALENDAR