BEGIN:VCALENDAR
VERSION:2.0
PRODID:-//www.Gzrally.com - ECPv5.16.2.1//NONSGML v1.0//EN
CALSCALE:GREGORIAN
METHOD:PUBLISH
X-WR-CALNAME:www.Gzrally.com
X-ORIGINAL-URL:https://www.gzrally.com
X-WR-CALDESC:Eventos para www.Gzrally.com
BEGIN:VTIMEZONE
TZID:Europe/Paris
BEGIN:DAYLIGHT
TZOFFSETFROM:+0100
TZOFFSETTO:+0200
TZNAME:CEST
DTSTART:20240331T010000
END:DAYLIGHT
BEGIN:STANDARD
TZOFFSETFROM:+0200
TZOFFSETTO:+0100
TZNAME:CET
DTSTART:20241027T010000
END:STANDARD
END:VTIMEZONE
BEGIN:VEVENT
DTSTART;VALUE=DATE:20240518
DTEND;VALUE=DATE:20240520
DTSTAMP:20260425T134613
CREATED:20240111T092824Z
LAST-MODIFIED:20240517T110246Z
UID:36003-1715990400-1716163199@www.gzrally.com
SUMMARY:IV Rally Reino de Leon 2024
DESCRIPTION:IV Rally Reino de Leon 2024\nENLACES DE INTERÉS: \n\n\n\nWeb oficial\nPerfil de Twitter oficial\nPerfil de Facebook oficial\nPerfil de Instagram oficial\nReglamento particular\nPrograma horario\n\n\n\n			\n				\n			\n			\n				\n			\n		\n\n\nItinerario Horario\n\n\n\n\nLista de inscritos\n\n\n\n			\n				\n			\n			\n				\n			\n		\n\n\nMapa en Google Maps\n\n\n\n\n\nGuia del Espectador\nTiempos Online\nRadio del Rally\nTablon de Anuncios Oficial\n\n\n\n﻿﻿﻿\n  \n\n\n\n  \n\n\n\n\n\n\n\n\n\n \nCompartelo:\n				Comparte en Facebook (Se abre en una ventana nueva)\n				Facebook\n			\n				Compartir en X (Se abre en una ventana nueva)\n				X\n			\n				Compartir en WhatsApp (Se abre en una ventana nueva)\n				WhatsApp\n			\n				Compartir en Telegram (Se abre en una ventana nueva)\n				Telegram\n			\n				Haz clic en Pinterest (Se abre en una ventana nueva)\n				Pinterest\n			\n				Enviar un enlace a un amigo por correo electrónico (Se abre en una ventana nueva)\n				Correo electrónico\n			\n\n	Relacionado
URL:https://www.gzrally.com/evento/iv-rally-reino-de-leon-2024/
CATEGORIES:CERT
ATTACH;FMTTYPE=image/png:https://www.gzrally.com/wp-content/uploads/2024/01/Placa-del-Rally-Reino-de-Leon-2024.png
END:VEVENT
END:VCALENDAR