BEGIN:VCALENDAR
VERSION:2.0
PRODID:-//www.Gzrally.com - ECPv5.16.2.1//NONSGML v1.0//EN
CALSCALE:GREGORIAN
METHOD:PUBLISH
X-WR-CALNAME:www.Gzrally.com
X-ORIGINAL-URL:https://www.gzrally.com
X-WR-CALDESC:Eventos para www.Gzrally.com
BEGIN:VTIMEZONE
TZID:Europe/Paris
BEGIN:DAYLIGHT
TZOFFSETFROM:+0100
TZOFFSETTO:+0200
TZNAME:CEST
DTSTART:20260329T010000
END:DAYLIGHT
BEGIN:STANDARD
TZOFFSETFROM:+0200
TZOFFSETTO:+0100
TZNAME:CET
DTSTART:20261025T010000
END:STANDARD
END:VTIMEZONE
BEGIN:VEVENT
DTSTART;VALUE=DATE:20260829
DTEND;VALUE=DATE:20260831
DTSTAMP:20260421T191838
CREATED:20260114T114241Z
LAST-MODIFIED:20260114T114323Z
UID:39031-1787961600-1788134399@www.gzrally.com
SUMMARY:6 Rallymix de Portas 2026
DESCRIPTION:6 Rallymix de Portas 2026\nENLACES DE INTERÉS: \n\nPerfil oficial de Facebook\nReglamento particular\nPrograma horario\nLista de inscritos\nGoogle Maps por Peachapa Racing\n\n\n\nOnboard del Trazado\nTiempos on-line\nTablón de anuncios oficial\n\n﻿﻿﻿﻿\n\n\n \nCompartelo:\n				Comparte en Facebook (Se abre en una ventana nueva)\n				Facebook\n			\n				Compartir en X (Se abre en una ventana nueva)\n				X\n			\n				Compartir en WhatsApp (Se abre en una ventana nueva)\n				WhatsApp\n			\n				Compartir en Telegram (Se abre en una ventana nueva)\n				Telegram\n			\n				Haz clic en Pinterest (Se abre en una ventana nueva)\n				Pinterest\n			\n				Enviar un enlace a un amigo por correo electrónico (Se abre en una ventana nueva)\n				Correo electrónico\n			\n\n	Relacionado
URL:https://www.gzrally.com/evento/6-rallymix-de-portas-2026/
CATEGORIES:Rallymix
ATTACH;FMTTYPE=image/png:https://www.gzrally.com/wp-content/uploads/2025/01/placa-rallymix-de-portas-2025.png
END:VEVENT
END:VCALENDAR