BEGIN:VCALENDAR
VERSION:2.0
PRODID:-//www.Gzrally.com - ECPv5.16.2.1//NONSGML v1.0//EN
CALSCALE:GREGORIAN
METHOD:PUBLISH
X-WR-CALNAME:www.Gzrally.com
X-ORIGINAL-URL:https://www.gzrally.com
X-WR-CALDESC:Eventos para www.Gzrally.com
BEGIN:VTIMEZONE
TZID:Europe/Paris
BEGIN:DAYLIGHT
TZOFFSETFROM:+0100
TZOFFSETTO:+0200
TZNAME:CEST
DTSTART:20180325T010000
END:DAYLIGHT
BEGIN:STANDARD
TZOFFSETFROM:+0200
TZOFFSETTO:+0100
TZNAME:CET
DTSTART:20181028T010000
END:STANDARD
END:VTIMEZONE
BEGIN:VEVENT
DTSTART;VALUE=DATE:20180512
DTEND;VALUE=DATE:20180515
DTSTAMP:20260423T151930
CREATED:20180108T204117Z
LAST-MODIFIED:20180516T205124Z
UID:13519-1526086800-1526259599@www.gzrally.com
SUMMARY:52 Rally Recalvi Rias Baixas 2018
DESCRIPTION:El Rally Rias Baixas 2018 es la tercera prueba del Campeonato Gallego de Rallys. \nLa fecha de la prueba es el 11 y 12 de Mayo. \nEl viernes 11 por la mañana tendrán lugar las verificaciones técnicas y administrativas en el Pabellon de Deportes en O Porriño\, y ya por la tarde a las 18:20 dará comienzo el rally con el único tramo del Viernes. \nYa el sábado la acción comenzará a partir de las 7:30 de lan mañana\, teniendo previsto la finalización del rally alrededor de las 22 y 30 de la tarde. \nENLACES DE INTERÉS: \n\nREGULAMENTO PARTICULAR\nPROGRAMA HORARIO\nMAPA DE TRAMOS\nHORARIO DE TRAMOS\n\n\nNOTICIAS SOBRE LA PRUEBA: \n\n\nIago Caamaño\, primer líder del Rally Rías Baixas 2018\n\n\nManuel Fernández lidera entre el caos en el Rías Baixas\n\n\nManuel Fernández y Alex Cid\, vencedores del Rally Rías Baixas\n\n\nLos mejores videos del Rally Rías Baixas\n\n\n\n\n\n\n \nActualizado a 16/05/2018 \nCompartelo:\n				Comparte en Facebook (Se abre en una ventana nueva)\n				Facebook\n			\n				Compartir en X (Se abre en una ventana nueva)\n				X\n			\n				Compartir en WhatsApp (Se abre en una ventana nueva)\n				WhatsApp\n			\n				Compartir en Telegram (Se abre en una ventana nueva)\n				Telegram\n			\n				Haz clic en Pinterest (Se abre en una ventana nueva)\n				Pinterest\n			\n				Enviar un enlace a un amigo por correo electrónico (Se abre en una ventana nueva)\n				Correo electrónico\n			\n\n	Relacionado
URL:https://www.gzrally.com/evento/52-rally-recalvi-rias-baixas/
CATEGORIES:Campeonato Gallego de Rallyes
ATTACH;FMTTYPE=image/png:https://www.gzrally.com/wp-content/uploads/2018/01/placa-rally-rias-baixas-2018.png
END:VEVENT
END:VCALENDAR