BEGIN:VCALENDAR
VERSION:2.0
PRODID:-//www.Gzrally.com - ECPv5.16.2.1//NONSGML v1.0//EN
CALSCALE:GREGORIAN
METHOD:PUBLISH
X-WR-CALNAME:www.Gzrally.com
X-ORIGINAL-URL:https://www.gzrally.com
X-WR-CALDESC:Eventos para www.Gzrally.com
BEGIN:VTIMEZONE
TZID:Europe/Paris
BEGIN:DAYLIGHT
TZOFFSETFROM:+0100
TZOFFSETTO:+0200
TZNAME:CEST
DTSTART:20210328T010000
END:DAYLIGHT
BEGIN:STANDARD
TZOFFSETFROM:+0200
TZOFFSETTO:+0100
TZNAME:CET
DTSTART:20211031T010000
END:STANDARD
END:VTIMEZONE
BEGIN:VEVENT
DTSTART;VALUE=DATE:20210605
DTEND;VALUE=DATE:20210607
DTSTAMP:20260424T114053
CREATED:20210107T122627Z
LAST-MODIFIED:20210512T122340Z
UID:29220-1622851200-1623023999@www.gzrally.com
SUMMARY:48 Karting de A Pastoriza 2021
DESCRIPTION:48 Karting Pastoriza 2021\nENLACES DE INTERÉS: \n\n\n\nReglamento particular\nPrograma horario\n\n\n\n\nLista de inscritos (no disponible por el momento)\nGoogle Maps\n\n\n\n\n\nTiempos Online\n\n\n\n\n\n \nCompartelo:\n				Comparte en Facebook (Se abre en una ventana nueva)\n				Facebook\n			\n				Compartir en X (Se abre en una ventana nueva)\n				X\n			\n				Compartir en WhatsApp (Se abre en una ventana nueva)\n				WhatsApp\n			\n				Compartir en Telegram (Se abre en una ventana nueva)\n				Telegram\n			\n				Haz clic en Pinterest (Se abre en una ventana nueva)\n				Pinterest\n			\n				Enviar un enlace a un amigo por correo electrónico (Se abre en una ventana nueva)\n				Correo electrónico\n			\n\n	Relacionado
URL:https://www.gzrally.com/evento/48-karting-de-a-pastoriza-2021/
CATEGORIES:Karting
ATTACH;FMTTYPE=image/jpeg:https://www.gzrally.com/wp-content/uploads/2021/01/CARTEL-A-Pastoriza-2021.jpg
END:VEVENT
END:VCALENDAR