BEGIN:VCALENDAR
VERSION:2.0
PRODID:-//www.Gzrally.com - ECPv5.16.2.1//NONSGML v1.0//EN
CALSCALE:GREGORIAN
METHOD:PUBLISH
X-WR-CALNAME:www.Gzrally.com
X-ORIGINAL-URL:https://www.gzrally.com
X-WR-CALDESC:Eventos para www.Gzrally.com
BEGIN:VTIMEZONE
TZID:Europe/Paris
BEGIN:DAYLIGHT
TZOFFSETFROM:+0100
TZOFFSETTO:+0200
TZNAME:CEST
DTSTART:20250330T010000
END:DAYLIGHT
BEGIN:STANDARD
TZOFFSETFROM:+0200
TZOFFSETTO:+0100
TZNAME:CET
DTSTART:20251026T010000
END:STANDARD
END:VTIMEZONE
BEGIN:VEVENT
DTSTART;VALUE=DATE:20250405
DTEND;VALUE=DATE:20250407
DTSTAMP:20260420T164739
CREATED:20250218T155227Z
LAST-MODIFIED:20250401T151926Z
UID:37647-1743811200-1743983999@www.gzrally.com
SUMMARY:42 Rally Sierra Morena 2025
DESCRIPTION:42 Rally Sierra Morena 2025\nENLACES DE INTERÉS: \n\nWeb oficial\nPerfil oficial de Twitter\nPerfil oficial de Facebook\nPerfil oficial de Instagram\nCanal de Youtube Oficial\nReglamento particular\nPrograma horario\n\n\n			\n				\n			\n			\n				\n			\n		\n\n\nItinerario horario\n\n\n			\n				\n			\n			\n				\n			\n			\n				\n			\n		\n\n\nMapa General\n\n \n\nGoogle Maps\n\n﻿\n\nLista de Inscritos\n\n                                  \n\nGuia del Rally\nTiempos Online\nStreaming de la RFEDA\nFormula Motor\, Radio de la RFEDA\nSol FM\, Radio Oficial\nTablón de anuncios oficial SCER\n\n﻿﻿﻿﻿﻿﻿\n\nTablón de anuncios oficial ERC\n\n﻿﻿﻿﻿﻿﻿\n  \n\n\n\n\n\n \nCompartelo:\n				Comparte en Facebook (Se abre en una ventana nueva)\n				Facebook\n			\n				Compartir en X (Se abre en una ventana nueva)\n				X\n			\n				Compartir en WhatsApp (Se abre en una ventana nueva)\n				WhatsApp\n			\n				Compartir en Telegram (Se abre en una ventana nueva)\n				Telegram\n			\n				Haz clic en Pinterest (Se abre en una ventana nueva)\n				Pinterest\n			\n				Enviar un enlace a un amigo por correo electrónico (Se abre en una ventana nueva)\n				Correo electrónico\n			\n\n	Relacionado
URL:https://www.gzrally.com/evento/42-rally-sierra-morena-2025/
CATEGORIES:SCER
ATTACH;FMTTYPE=image/webp:https://www.gzrally.com/wp-content/uploads/2025/02/placa-rally-sierra-morena-2025.webp
END:VEVENT
END:VCALENDAR