BEGIN:VCALENDAR
VERSION:2.0
PRODID:-//www.Gzrally.com - ECPv5.16.2.1//NONSGML v1.0//EN
CALSCALE:GREGORIAN
METHOD:PUBLISH
X-WR-CALNAME:www.Gzrally.com
X-ORIGINAL-URL:https://www.gzrally.com
X-WR-CALDESC:Eventos para www.Gzrally.com
BEGIN:VTIMEZONE
TZID:Europe/Paris
BEGIN:DAYLIGHT
TZOFFSETFROM:+0100
TZOFFSETTO:+0200
TZNAME:CEST
DTSTART:20180325T010000
END:DAYLIGHT
BEGIN:STANDARD
TZOFFSETFROM:+0200
TZOFFSETTO:+0100
TZNAME:CET
DTSTART:20181028T010000
END:STANDARD
END:VTIMEZONE
BEGIN:VEVENT
DTSTART;VALUE=DATE:20180503
DTEND;VALUE=DATE:20180507
DTSTAMP:20260423T134232
CREATED:20180219T080357Z
LAST-MODIFIED:20180423T171223Z
UID:14096-1525309200-1525568399@www.gzrally.com
SUMMARY:42 Rally Islas Canarias 2018
DESCRIPTION:ENLACES DE INTERÉS: \n·Web oficial \n·Reglamento ERC \n·Reglamento RFEDA \n·Programa/Horario \n·Mapa general \n·Guía del rally \n·Lista de inscritos FIA \n·Lista de inscritos RFEDA – FCA \n·Tiempos on-line \n  \n \n\n\n\n \n \n  \nCompartelo:\n				Comparte en Facebook (Se abre en una ventana nueva)\n				Facebook\n			\n				Compartir en X (Se abre en una ventana nueva)\n				X\n			\n				Compartir en WhatsApp (Se abre en una ventana nueva)\n				WhatsApp\n			\n				Compartir en Telegram (Se abre en una ventana nueva)\n				Telegram\n			\n				Haz clic en Pinterest (Se abre en una ventana nueva)\n				Pinterest\n			\n				Enviar un enlace a un amigo por correo electrónico (Se abre en una ventana nueva)\n				Correo electrónico\n			\n\n	Relacionado
URL:https://www.gzrally.com/evento/42-rally-islas-canarias-2018/
ATTACH;FMTTYPE=image/jpeg:https://www.gzrally.com/wp-content/uploads/2018/02/Canarias2018_Pegatina.jpg
END:VEVENT
END:VCALENDAR