BEGIN:VCALENDAR
VERSION:2.0
PRODID:-//www.Gzrally.com - ECPv5.16.2.1//NONSGML v1.0//EN
CALSCALE:GREGORIAN
METHOD:PUBLISH
X-WR-CALNAME:www.Gzrally.com
X-ORIGINAL-URL:https://www.gzrally.com
X-WR-CALDESC:Eventos para www.Gzrally.com
BEGIN:VTIMEZONE
TZID:Europe/Paris
BEGIN:DAYLIGHT
TZOFFSETFROM:+0100
TZOFFSETTO:+0200
TZNAME:CEST
DTSTART:20250330T010000
END:DAYLIGHT
BEGIN:STANDARD
TZOFFSETFROM:+0200
TZOFFSETTO:+0100
TZNAME:CET
DTSTART:20251026T010000
END:STANDARD
END:VTIMEZONE
BEGIN:VEVENT
DTSTART;VALUE=DATE:20250927
DTEND;VALUE=DATE:20250929
DTSTAMP:20260423T155159
CREATED:20250116T092348Z
LAST-MODIFIED:20250926T210032Z
UID:37571-1758931200-1759103999@www.gzrally.com
SUMMARY:4 Slalom de Somozas 2025
DESCRIPTION:4 Slalom de Somozas 2025\n\nWeb Oficial\nPerfil Facebook Oficial\nReglamento Particular\nPrograma Horario\n\n \n\nLista de Inscritos\n\n \n\nMapa General\n\n \n\nUbicación en Google Maps\nTiempos Online\nTablón de anuncios oficial\n\n﻿﻿﻿﻿﻿\n\n\n \nCompartelo:\n				Comparte en Facebook (Se abre en una ventana nueva)\n				Facebook\n			\n				Compartir en X (Se abre en una ventana nueva)\n				X\n			\n				Compartir en WhatsApp (Se abre en una ventana nueva)\n				WhatsApp\n			\n				Compartir en Telegram (Se abre en una ventana nueva)\n				Telegram\n			\n				Haz clic en Pinterest (Se abre en una ventana nueva)\n				Pinterest\n			\n				Enviar un enlace a un amigo por correo electrónico (Se abre en una ventana nueva)\n				Correo electrónico\n			\n\n	Relacionado
URL:https://www.gzrally.com/evento/4-slalom-de-somozas-2025/
CATEGORIES:Slalom
ATTACH;FMTTYPE=image/png:https://www.gzrally.com/wp-content/uploads/2025/01/placa-slalom-somozas-2025.png
END:VEVENT
END:VCALENDAR