BEGIN:VCALENDAR
VERSION:2.0
PRODID:-//www.Gzrally.com - ECPv5.16.2.1//NONSGML v1.0//EN
CALSCALE:GREGORIAN
METHOD:PUBLISH
X-WR-CALNAME:www.Gzrally.com
X-ORIGINAL-URL:https://www.gzrally.com
X-WR-CALDESC:Eventos para www.Gzrally.com
BEGIN:VTIMEZONE
TZID:Europe/Paris
BEGIN:DAYLIGHT
TZOFFSETFROM:+0100
TZOFFSETTO:+0200
TZNAME:CEST
DTSTART:20250330T010000
END:DAYLIGHT
BEGIN:STANDARD
TZOFFSETFROM:+0200
TZOFFSETTO:+0100
TZNAME:CET
DTSTART:20251026T010000
END:STANDARD
END:VTIMEZONE
BEGIN:VEVENT
DTSTART;VALUE=DATE:20250322
DTEND;VALUE=DATE:20250324
DTSTAMP:20260420T233747
CREATED:20250109T090253Z
LAST-MODIFIED:20250321T123654Z
UID:37478-1742601600-1742774399@www.gzrally.com
SUMMARY:29 Rally de Coruña 2025
DESCRIPTION:29 Rally de Coruña 2025\nENLACES DE INTERÉS: \n\nWeb oficial\nPerfil de Twitter del rally\nPerfil de Instagram del rally\nPerfil de Facebook de la escudería\nReglamento particular\nPrograma horario\n\n \n\nItinerario Horario\n\n \n\nLista de Inscritos\n\n \n\nGuia del espectador\nTramos\n\n\n			\n				\n			\n			\n				\n			\n			\n				\n			\n			\n				\n			\n		\n\n\nLos tramos en Google Maps\n\n﻿\n\nVideos de los Tramos\nRadio Online – Radio Marca Coruña\nTiempos Online\nTablón de anuncios oficial\n\n﻿﻿﻿﻿﻿﻿\n  \n\n\n\nCompartelo:\n				Comparte en Facebook (Se abre en una ventana nueva)\n				Facebook\n			\n				Compartir en X (Se abre en una ventana nueva)\n				X\n			\n				Compartir en WhatsApp (Se abre en una ventana nueva)\n				WhatsApp\n			\n				Compartir en Telegram (Se abre en una ventana nueva)\n				Telegram\n			\n				Haz clic en Pinterest (Se abre en una ventana nueva)\n				Pinterest\n			\n				Enviar un enlace a un amigo por correo electrónico (Se abre en una ventana nueva)\n				Correo electrónico\n			\n\n	Relacionado
URL:https://www.gzrally.com/evento/29-rally-de-coruna-2025/
CATEGORIES:Campeonato Gallego de Rallyes
ATTACH;FMTTYPE=image/png:https://www.gzrally.com/wp-content/uploads/2025/01/Placa-29o-Rallye-A-Coruna.png
END:VEVENT
END:VCALENDAR