BEGIN:VCALENDAR
VERSION:2.0
PRODID:-//www.Gzrally.com - ECPv5.16.2.1//NONSGML v1.0//EN
CALSCALE:GREGORIAN
METHOD:PUBLISH
X-WR-CALNAME:www.Gzrally.com
X-ORIGINAL-URL:https://www.gzrally.com
X-WR-CALDESC:Eventos para www.Gzrally.com
BEGIN:VTIMEZONE
TZID:Europe/Paris
BEGIN:DAYLIGHT
TZOFFSETFROM:+0100
TZOFFSETTO:+0200
TZNAME:CEST
DTSTART:20250330T010000
END:DAYLIGHT
BEGIN:STANDARD
TZOFFSETFROM:+0200
TZOFFSETTO:+0100
TZNAME:CET
DTSTART:20251026T010000
END:STANDARD
END:VTIMEZONE
BEGIN:VEVENT
DTSTART;VALUE=DATE:20251129
DTEND;VALUE=DATE:20251201
DTSTAMP:20260423T170551
CREATED:20250220T084440Z
LAST-MODIFIED:20251127T085227Z
UID:37686-1764374400-1764547199@www.gzrally.com
SUMMARY:25 Rally Ciudad de Valencia 2025
DESCRIPTION:25 Rally Ciudad de Valencia 2025\n\n\n\nWeb oficial\nPerfil de Instagram oficial\nPerfil de Facebook oficial\nReglamento particular\nPrograma horario\n\n\n\n\nItinerario Horario\n\n\n\n \n\n\n\nLista de inscritos\n\n\n\n			\n				\n			\n			\n				\n			\n		\n\n\nMapa General\n\n\n\n\nGoogle Maps\n\n\n\n﻿\n\nRadio Online\nTiempos Online\nTablón de anuncios oficial\n\n\n\n﻿﻿﻿\ncenter;»>\n\n \nCompartelo:\n				Comparte en Facebook (Se abre en una ventana nueva)\n				Facebook\n			\n				Compartir en X (Se abre en una ventana nueva)\n				X\n			\n				Compartir en WhatsApp (Se abre en una ventana nueva)\n				WhatsApp\n			\n				Compartir en Telegram (Se abre en una ventana nueva)\n				Telegram\n			\n				Haz clic en Pinterest (Se abre en una ventana nueva)\n				Pinterest\n			\n				Enviar un enlace a un amigo por correo electrónico (Se abre en una ventana nueva)\n				Correo electrónico\n			\n\n	Relacionado
URL:https://www.gzrally.com/evento/25-rally-ciudad-de-valencia-2025/
CATEGORIES:CERA
ATTACH;FMTTYPE=image/png:https://www.gzrally.com/wp-content/uploads/2025/02/placa-rally-ciudad-de-valencia-2025.png
END:VEVENT
END:VCALENDAR