BEGIN:VCALENDAR
VERSION:2.0
PRODID:-//www.Gzrally.com - ECPv5.16.2.1//NONSGML v1.0//EN
CALSCALE:GREGORIAN
METHOD:PUBLISH
X-WR-CALNAME:www.Gzrally.com
X-ORIGINAL-URL:https://www.gzrally.com
X-WR-CALDESC:Eventos para www.Gzrally.com
BEGIN:VTIMEZONE
TZID:Europe/Paris
BEGIN:DAYLIGHT
TZOFFSETFROM:+0100
TZOFFSETTO:+0200
TZNAME:CEST
DTSTART:20250330T010000
END:DAYLIGHT
BEGIN:STANDARD
TZOFFSETFROM:+0200
TZOFFSETTO:+0100
TZNAME:CET
DTSTART:20251026T010000
END:STANDARD
END:VTIMEZONE
BEGIN:VEVENT
DTSTART;VALUE=DATE:20250607
DTEND;VALUE=DATE:20250609
DTSTAMP:20260421T173523
CREATED:20250109T094311Z
LAST-MODIFIED:20250605T073708Z
UID:37504-1749254400-1749427199@www.gzrally.com
SUMMARY:20 Autocross de Carballo 2025
DESCRIPTION:20 Autocross de Carballo 2025\nENLACES DE INTERÉS: \n\nWeb oficial\nPerfil de Twitter oficial\nPerfil de Facebook oficial\nReglamento particular\nPrograma horario\n\n\n			\n				\n			\n			\n				\n			\n		\n\n\nLista de inscritos\nCircuito\n\n  \n\n\nGoogle Maps\n\n\n\n\nTiempos Online \n\n\n\n \nCompartelo:\n				Comparte en Facebook (Se abre en una ventana nueva)\n				Facebook\n			\n				Compartir en X (Se abre en una ventana nueva)\n				X\n			\n				Compartir en WhatsApp (Se abre en una ventana nueva)\n				WhatsApp\n			\n				Compartir en Telegram (Se abre en una ventana nueva)\n				Telegram\n			\n				Haz clic en Pinterest (Se abre en una ventana nueva)\n				Pinterest\n			\n				Enviar un enlace a un amigo por correo electrónico (Se abre en una ventana nueva)\n				Correo electrónico\n			\n\n	Relacionado
URL:https://www.gzrally.com/evento/20-autocross-de-carballo-2025/
CATEGORIES:Autocross
ATTACH;FMTTYPE=image/png:https://www.gzrally.com/wp-content/uploads/2025/01/20Autocross-Carballo-web-725x1024-1.png
END:VEVENT
END:VCALENDAR