BEGIN:VCALENDAR
VERSION:2.0
PRODID:-//www.Gzrally.com - ECPv5.16.2.1//NONSGML v1.0//EN
CALSCALE:GREGORIAN
METHOD:PUBLISH
X-WR-CALNAME:www.Gzrally.com
X-ORIGINAL-URL:https://www.gzrally.com
X-WR-CALDESC:Eventos para www.Gzrally.com
BEGIN:VTIMEZONE
TZID:Europe/Paris
BEGIN:DAYLIGHT
TZOFFSETFROM:+0100
TZOFFSETTO:+0200
TZNAME:CEST
DTSTART:20260329T010000
END:DAYLIGHT
BEGIN:STANDARD
TZOFFSETFROM:+0200
TZOFFSETTO:+0100
TZNAME:CET
DTSTART:20261025T010000
END:STANDARD
END:VTIMEZONE
BEGIN:VEVENT
DTSTART;VALUE=DATE:20260321
DTEND;VALUE=DATE:20260323
DTSTAMP:20260424T110000
CREATED:20260122T092716Z
LAST-MODIFIED:20260317T154602Z
UID:39104-1774051200-1774223999@www.gzrally.com
SUMMARY:32 Rally de la Nucía - Mediterráneo 2026
DESCRIPTION:www.lanucia.es\n32 Rally de la Nucía – Mediterráneo 2026\nENLACES DE INTERÉS: \n\n\n\n\n\nWeb oficial\nPerfil de Twitter oficial\nPerfil de Facebook oficial\nReglamento particular\nPrograma horario\n\n\n\n\n\n\n			\n				\n			\n			\n				\n			\n		\n\n\n\n\n\n\nItinerario Horario\n\n\n\n\nLista de inscritos\n\n\n\n			\n				\n			\n			\n				\n			\n		\n\n\nMapa General\n\n\n\n\nTramos en Google Maps\n\n\n\n\n\n\n\n\n\n\n\n\n\n\n\n\n﻿﻿\n\nRadio Online\nTv Online\nTiempos Online\nRevista del Rally\nTablón de anuncios oficial\n\n\n\n\n\n\n﻿﻿﻿﻿\n\n\n\n \nCompartelo:\n				Comparte en Facebook (Se abre en una ventana nueva)\n				Facebook\n			\n				Compartir en X (Se abre en una ventana nueva)\n				X\n			\n				Compartir en WhatsApp (Se abre en una ventana nueva)\n				WhatsApp\n			\n				Compartir en Telegram (Se abre en una ventana nueva)\n				Telegram\n			\n				Haz clic en Pinterest (Se abre en una ventana nueva)\n				Pinterest\n			\n				Enviar un enlace a un amigo por correo electrónico (Se abre en una ventana nueva)\n				Correo electrónico
URL:https://www.gzrally.com/evento/32-rally-de-la-nucia-mediterraneo-2026/
CATEGORIES:SCER
ATTACH;FMTTYPE=image/png:https://www.gzrally.com/wp-content/uploads/2026/01/placa-rally-nucia-2026.png
END:VEVENT
END:VCALENDAR