BEGIN:VCALENDAR
VERSION:2.0
PRODID:-//www.Gzrally.com - ECPv5.16.2.1//NONSGML v1.0//EN
CALSCALE:GREGORIAN
METHOD:PUBLISH
X-WR-CALNAME:www.Gzrally.com
X-ORIGINAL-URL:https://www.gzrally.com
X-WR-CALDESC:Eventos para www.Gzrally.com
BEGIN:VTIMEZONE
TZID:Europe/Paris
BEGIN:DAYLIGHT
TZOFFSETFROM:+0100
TZOFFSETTO:+0200
TZNAME:CEST
DTSTART:20250330T010000
END:DAYLIGHT
BEGIN:STANDARD
TZOFFSETFROM:+0200
TZOFFSETTO:+0100
TZNAME:CET
DTSTART:20251026T010000
END:STANDARD
END:VTIMEZONE
BEGIN:VEVENT
DTSTART;VALUE=DATE:20250607
DTEND;VALUE=DATE:20250609
DTSTAMP:20260423T120635
CREATED:20250109T093849Z
LAST-MODIFIED:20250605T074547Z
UID:37502-1749254400-1749427199@www.gzrally.com
SUMMARY:Rally de Pontevedra 2025
DESCRIPTION:  \n6 Rally de Pontevedra 2024\nENLACES DE INTERÉS: \n\nWeb oficial\nPerfil de Facebook oficial\nPerfil de Twitter oficial\nPerfil de Instagram oficial\nReglamento particular\nPrograma horario\n\n \n\nItinerario Horario\n\n \n\nLista de Inscritos\n\n\n\n	\n		\n			\n				\n				\n				\n			\n			\n				\n				\n				\n			\n			\n				\n				\n				\n			\n		\n	\n\n\n\n\n  \n\nGoogle Maps por Pe A Chapa Racing\n\n﻿\n\nTiempos Online\nTablon de Anuncios Oficial\n\n﻿﻿﻿﻿\n\n\n \nCompartelo:\n				Comparte en Facebook (Se abre en una ventana nueva)\n				Facebook\n			\n				Compartir en X (Se abre en una ventana nueva)\n				X\n			\n				Compartir en WhatsApp (Se abre en una ventana nueva)\n				WhatsApp\n			\n				Compartir en Telegram (Se abre en una ventana nueva)\n				Telegram\n			\n				Haz clic en Pinterest (Se abre en una ventana nueva)\n				Pinterest\n			\n				Enviar un enlace a un amigo por correo electrónico (Se abre en una ventana nueva)\n				Correo electrónico
URL:https://www.gzrally.com/evento/rally-de-pontevedra-2025/
CATEGORIES:Campeonato Gallego de Rallyes
ATTACH;FMTTYPE=image/png:https://www.gzrally.com/wp-content/uploads/2025/01/placa-rally-de-pontevedra-2025.png
END:VEVENT
BEGIN:VEVENT
DTSTART;VALUE=DATE:20250607
DTEND;VALUE=DATE:20250609
DTSTAMP:20260423T120635
CREATED:20250109T094311Z
LAST-MODIFIED:20250605T073708Z
UID:37504-1749254400-1749427199@www.gzrally.com
SUMMARY:20 Autocross de Carballo 2025
DESCRIPTION:20 Autocross de Carballo 2025\nENLACES DE INTERÉS: \n\nWeb oficial\nPerfil de Twitter oficial\nPerfil de Facebook oficial\nReglamento particular\nPrograma horario\n\n\n			\n				\n			\n			\n				\n			\n		\n\n\nLista de inscritos\nCircuito\n\n  \n\n\nGoogle Maps\n\n\n\n\nTiempos Online \n\n\n\n \nCompartelo:\n				Comparte en Facebook (Se abre en una ventana nueva)\n				Facebook\n			\n				Compartir en X (Se abre en una ventana nueva)\n				X\n			\n				Compartir en WhatsApp (Se abre en una ventana nueva)\n				WhatsApp\n			\n				Compartir en Telegram (Se abre en una ventana nueva)\n				Telegram\n			\n				Haz clic en Pinterest (Se abre en una ventana nueva)\n				Pinterest\n			\n				Enviar un enlace a un amigo por correo electrónico (Se abre en una ventana nueva)\n				Correo electrónico
URL:https://www.gzrally.com/evento/20-autocross-de-carballo-2025/
CATEGORIES:Autocross
ATTACH;FMTTYPE=image/png:https://www.gzrally.com/wp-content/uploads/2025/01/20Autocross-Carballo-web-725x1024-1.png
END:VEVENT
BEGIN:VEVENT
DTSTART;VALUE=DATE:20250607
DTEND;VALUE=DATE:20250609
DTSTAMP:20260423T120635
CREATED:20250220T085404Z
LAST-MODIFIED:20250606T175535Z
UID:37694-1749254400-1749427199@www.gzrally.com
SUMMARY:V Rally Reino de Leon 2025
DESCRIPTION:I Rally Reino de Leon 2025\nENLACES DE INTERÉS: \n\n\n\nWeb oficial\nPerfil de Twitter oficial\nPerfil de Facebook oficial\nPerfil de Instagram oficial\nReglamento particular\nPrograma horario\n\n\n\n\n			\n				\n			\n			\n				\n			\n		\n\n\n\n\nItinerario Horario\n\n\n\n			\n				\n			\n			\n				\n			\n		\n\n\nLista de inscritos\n\n\n\n			\n				\n			\n			\n				\n			\n		\n\n\nMapa en Google Maps\n\n\n\n﻿\n\nRevista del Rally\nTiempos Online\nRadio del Rally\nTablon de Anuncios Oficial\n\n\n\n﻿﻿﻿﻿\n\n\n\n\n\n \nCompartelo:\n				Comparte en Facebook (Se abre en una ventana nueva)\n				Facebook\n			\n				Compartir en X (Se abre en una ventana nueva)\n				X\n			\n				Compartir en WhatsApp (Se abre en una ventana nueva)\n				WhatsApp\n			\n				Compartir en Telegram (Se abre en una ventana nueva)\n				Telegram\n			\n				Haz clic en Pinterest (Se abre en una ventana nueva)\n				Pinterest\n			\n				Enviar un enlace a un amigo por correo electrónico (Se abre en una ventana nueva)\n				Correo electrónico
URL:https://www.gzrally.com/evento/v-rally-reino-de-leon-2025/
CATEGORIES:CERT
ATTACH;FMTTYPE=image/png:https://www.gzrally.com/wp-content/uploads/2025/02/Captura-de-pantalla-2025-06-02-132447.png
END:VEVENT
END:VCALENDAR