BEGIN:VCALENDAR
VERSION:2.0
PRODID:-//www.Gzrally.com - ECPv5.16.2.1//NONSGML v1.0//EN
CALSCALE:GREGORIAN
METHOD:PUBLISH
X-WR-CALNAME:www.Gzrally.com
X-ORIGINAL-URL:https://www.gzrally.com
X-WR-CALDESC:Eventos para www.Gzrally.com
BEGIN:VTIMEZONE
TZID:Europe/Paris
BEGIN:DAYLIGHT
TZOFFSETFROM:+0100
TZOFFSETTO:+0200
TZNAME:CEST
DTSTART:20250330T010000
END:DAYLIGHT
BEGIN:STANDARD
TZOFFSETFROM:+0200
TZOFFSETTO:+0100
TZNAME:CET
DTSTART:20251026T010000
END:STANDARD
END:VTIMEZONE
BEGIN:VEVENT
DTSTART;VALUE=DATE:20250426
DTEND;VALUE=DATE:20250428
DTSTAMP:20260421T191804
CREATED:20250109T091524Z
LAST-MODIFIED:20250424T060854Z
UID:37486-1745625600-1745798399@www.gzrally.com
SUMMARY:12 Subida a Taboada 2025
DESCRIPTION:12 Subida a Taboada 2025\nENLACES DE INTERÉS: \n\n\n\nPerfil de Facebook oficial\nReglamento particular\nPrograma horario\n\n\n\n \n\n\n\nLista de inscritos\n\n\n\n\nMapa\n\n\n\n\nTramo en Google Maps\n\n\n\n\n\n\n\nVideo del trazado\n\n\n\n\n\n\nTiempos Online\nTablón de anuncios oficial\n\n\n\n﻿﻿﻿﻿﻿\n  \n\n\n \nCompartelo:\n				Comparte en Facebook (Se abre en una ventana nueva)\n				Facebook\n			\n				Compartir en X (Se abre en una ventana nueva)\n				X\n			\n				Compartir en WhatsApp (Se abre en una ventana nueva)\n				WhatsApp\n			\n				Compartir en Telegram (Se abre en una ventana nueva)\n				Telegram\n			\n				Haz clic en Pinterest (Se abre en una ventana nueva)\n				Pinterest\n			\n				Enviar un enlace a un amigo por correo electrónico (Se abre en una ventana nueva)\n				Correo electrónico
URL:https://www.gzrally.com/evento/12-subida-a-taboada-2025/
CATEGORIES:Campeonato Gallego de Montaña
END:VEVENT
BEGIN:VEVENT
DTSTART;VALUE=DATE:20250426
DTEND;VALUE=DATE:20250428
DTSTAMP:20260421T191804
CREATED:20250109T091741Z
LAST-MODIFIED:20250425T202121Z
UID:37488-1745625600-1745798399@www.gzrally.com
SUMMARY:31 Autocross de O Castro 2025
DESCRIPTION:31 Autocross de O Castro 2025\nENLACES DE INTERÉS: \n\n\n\nPágina de Facebook oficial\nReglamento particular\nPrograma/horario\n\n\n\n \n \n\n\n\nLista de inscritos\n\n\n\n\n\n	\n		\n			\n				\n				\n				\n			\n			\n				\n				\n				\n			\n			\n				\n				\n				\n			\n			\n				\n				\n				\n			\n			\n				\n				\n				\n			\n		\n	\n\n\n\n\n\n\n\nTiempos on-line\nEl circuito en Google Maps\nTablón de anuncios oficial\n\n\n\n﻿﻿﻿﻿﻿﻿\n  \n\n\n \nCompartelo:\n				Comparte en Facebook (Se abre en una ventana nueva)\n				Facebook\n			\n				Compartir en X (Se abre en una ventana nueva)\n				X\n			\n				Compartir en WhatsApp (Se abre en una ventana nueva)\n				WhatsApp\n			\n				Compartir en Telegram (Se abre en una ventana nueva)\n				Telegram\n			\n				Haz clic en Pinterest (Se abre en una ventana nueva)\n				Pinterest\n			\n				Enviar un enlace a un amigo por correo electrónico (Se abre en una ventana nueva)\n				Correo electrónico
URL:https://www.gzrally.com/evento/31-autocross-de-o-castro-2025/
CATEGORIES:Autocross
ATTACH;FMTTYPE=image/jpeg:https://www.gzrally.com/wp-content/uploads/2025/01/cartel-autocross-o-castro-2025.jpg
END:VEVENT
BEGIN:VEVENT
DTSTART;VALUE=DATE:20250426
DTEND;VALUE=DATE:20250428
DTSTAMP:20260421T191804
CREATED:20250109T092209Z
LAST-MODIFIED:20250428T073936Z
UID:37492-1745625600-1745798399@www.gzrally.com
SUMMARY:6 Slalom de Guitiriz 2025
DESCRIPTION:6 Slalom de Guitiriz 2025\nENLACES DE INTERÉS: \n\nPerfil de Facebook oficial\nReglamento particular\nPrograma horario\n\n \n\nLista de inscritos\n\n \n\nMapa del Trazado\n\n \n\nGoogle Maps\n\n\n\nTiempos Online\n\n\n\n \nCompartelo:\n				Comparte en Facebook (Se abre en una ventana nueva)\n				Facebook\n			\n				Compartir en X (Se abre en una ventana nueva)\n				X\n			\n				Compartir en WhatsApp (Se abre en una ventana nueva)\n				WhatsApp\n			\n				Compartir en Telegram (Se abre en una ventana nueva)\n				Telegram\n			\n				Haz clic en Pinterest (Se abre en una ventana nueva)\n				Pinterest\n			\n				Enviar un enlace a un amigo por correo electrónico (Se abre en una ventana nueva)\n				Correo electrónico
URL:https://www.gzrally.com/evento/6-slalom-de-guitiriz-2025/
CATEGORIES:Slalom
ATTACH;FMTTYPE=image/png:https://www.gzrally.com/wp-content/uploads/2025/04/Placa-slalom-guitiriz-2025.png
END:VEVENT
END:VCALENDAR