BEGIN:VCALENDAR
VERSION:2.0
PRODID:-//www.Gzrally.com - ECPv5.16.2.1//NONSGML v1.0//EN
CALSCALE:GREGORIAN
METHOD:PUBLISH
X-WR-CALNAME:www.Gzrally.com
X-ORIGINAL-URL:https://www.gzrally.com
X-WR-CALDESC:Eventos para www.Gzrally.com
BEGIN:VTIMEZONE
TZID:Europe/Paris
BEGIN:DAYLIGHT
TZOFFSETFROM:+0100
TZOFFSETTO:+0200
TZNAME:CEST
DTSTART:20250330T010000
END:DAYLIGHT
BEGIN:STANDARD
TZOFFSETFROM:+0200
TZOFFSETTO:+0100
TZNAME:CET
DTSTART:20251026T010000
END:STANDARD
END:VTIMEZONE
BEGIN:VEVENT
DTSTART;VALUE=DATE:20250412
DTEND;VALUE=DATE:20250414
DTSTAMP:20260421T191702
CREATED:20250109T091237Z
LAST-MODIFIED:20250408T085020Z
UID:37484-1744416000-1744588799@www.gzrally.com
SUMMARY:II Rallymix Serra de Argallo Figueiro Tomiño 2025
DESCRIPTION:II Rallymix Serra de Argallo Figueiro Tomiño 2025\nENLACES DE INTERÉS: \n\nPágina web oficial\nPerfil de Facebook oficial\nPerfil de Instagram oficial\nReglamento Particular\nPrograma horario\n\n \n\nHorario de tramos\n\n \n\nLista de inscritos\nGuia del espectador con Qr de accesos\nGoogle Maps\n\n﻿\n\nTiempos Online\nTablón de anuncios oficial\n\n﻿﻿﻿﻿﻿﻿\n  \n\n\n \nCompartelo:\n				Comparte en Facebook (Se abre en una ventana nueva)\n				Facebook\n			\n				Compartir en X (Se abre en una ventana nueva)\n				X\n			\n				Compartir en WhatsApp (Se abre en una ventana nueva)\n				WhatsApp\n			\n				Compartir en Telegram (Se abre en una ventana nueva)\n				Telegram\n			\n				Haz clic en Pinterest (Se abre en una ventana nueva)\n				Pinterest\n			\n				Enviar un enlace a un amigo por correo electrónico (Se abre en una ventana nueva)\n				Correo electrónico
URL:https://www.gzrally.com/evento/ii-rallymix-serra-de-argallo-figueiro-tomino-2025/
CATEGORIES:Rallymix
ATTACH;FMTTYPE=image/png:https://www.gzrally.com/wp-content/uploads/2025/01/placa-rallymix-serra-do-argallo-concello-tomino-2025.png
END:VEVENT
END:VCALENDAR