BEGIN:VCALENDAR
VERSION:2.0
PRODID:-//www.Gzrally.com - ECPv5.16.2.1//NONSGML v1.0//EN
CALSCALE:GREGORIAN
METHOD:PUBLISH
X-WR-CALNAME:www.Gzrally.com
X-ORIGINAL-URL:https://www.gzrally.com
X-WR-CALDESC:Eventos para www.Gzrally.com
BEGIN:VTIMEZONE
TZID:Europe/Paris
BEGIN:DAYLIGHT
TZOFFSETFROM:+0100
TZOFFSETTO:+0200
TZNAME:CEST
DTSTART:20250330T010000
END:DAYLIGHT
BEGIN:STANDARD
TZOFFSETFROM:+0200
TZOFFSETTO:+0100
TZNAME:CET
DTSTART:20251026T010000
END:STANDARD
END:VTIMEZONE
BEGIN:VEVENT
DTSTART;VALUE=DATE:20250329
DTEND;VALUE=DATE:20250331
DTSTAMP:20260425T134207
CREATED:20250109T090637Z
LAST-MODIFIED:20250328T082214Z
UID:37480-1743206400-1743379199@www.gzrally.com
SUMMARY:11 Karting As Pontes 2025
DESCRIPTION:11 Karting As Pontes 2025\nENLACES DE INTERÉS: \n\nReglamento particular\nPrograma horario\n\n\n			\n				\n			\n			\n				\n			\n		\n\n\nHorario de entrenamientos\n\n\n			\n				\n			\n			\n				\n			\n		\n\n\nLista de inscritos\n\n\n			\n				\n			\n			\n				\n			\n		\n\n\nPlano del Trazado\n\n  \n \n\nTrazado en Google Maps\nTiempos Online\n\n\n\n\n\n\n\n \nCompartelo:\n				Comparte en Facebook (Se abre en una ventana nueva)\n				Facebook\n			\n				Compartir en X (Se abre en una ventana nueva)\n				X\n			\n				Compartir en WhatsApp (Se abre en una ventana nueva)\n				WhatsApp\n			\n				Compartir en Telegram (Se abre en una ventana nueva)\n				Telegram\n			\n				Haz clic en Pinterest (Se abre en una ventana nueva)\n				Pinterest\n			\n				Enviar un enlace a un amigo por correo electrónico (Se abre en una ventana nueva)\n				Correo electrónico
URL:https://www.gzrally.com/evento/11-karting-as-pontes-2025/
CATEGORIES:Karting
ATTACH;FMTTYPE=image/jpeg:https://www.gzrally.com/wp-content/uploads/2025/01/CARTEL-ASPONTES-2025-1_resultado-1.jpg
END:VEVENT
BEGIN:VEVENT
DTSTART;VALUE=DATE:20250329
DTEND;VALUE=DATE:20250331
DTSTAMP:20260425T134207
CREATED:20250220T082858Z
LAST-MODIFIED:20250327T084901Z
UID:37675-1743206400-1743379199@www.gzrally.com
SUMMARY:26 Rallye la Llana - Ripollés 2025
DESCRIPTION:Rallye la Llana – Ripollés 2024\nENLACES DE INTERÉS: \n\nWeb oficial\nPerfil de Instagram oficial\nPerfil de Facebook oficial\nPerfil de Youtube Oficial\nPrograma horario\nItinerario Horario\n\n \n\nLista de inscritos\n\n\n			\n				\n			\n			\n				\n			\n			\n				\n			\n		\n\n\nMapa General\n\n \n\nMapas Detallados\n\n\n			\n				\n			\n			\n				\n			\n			\n				\n			\n			\n				\n			\n			\n				\n			\n			\n				\n			\n			\n				\n			\n		\n\n\nGoogle Maps\n\n  \n﻿\n\nRevista del Rally\nRadio Online (no disponible por el momento)\nTiempos Online\n\n\n\n\n \nCompartelo:\n				Comparte en Facebook (Se abre en una ventana nueva)\n				Facebook\n			\n				Compartir en X (Se abre en una ventana nueva)\n				X\n			\n				Compartir en WhatsApp (Se abre en una ventana nueva)\n				WhatsApp\n			\n				Compartir en Telegram (Se abre en una ventana nueva)\n				Telegram\n			\n				Haz clic en Pinterest (Se abre en una ventana nueva)\n				Pinterest\n			\n				Enviar un enlace a un amigo por correo electrónico (Se abre en una ventana nueva)\n				Correo electrónico
URL:https://www.gzrally.com/evento/26-rallye-la-llana-ripolles-2025/
CATEGORIES:CERA
ATTACH;FMTTYPE=image/png:https://www.gzrally.com/wp-content/uploads/2025/02/placa-oficial-26-rallye-la-llana.png
END:VEVENT
END:VCALENDAR